View In:
ArcGIS JavaScript
ArcGIS Online Map Viewer
ArcGIS Earth
ArcMap
View Footprint In:
ArcGIS Online Map Viewer
Service Description: Central Section of Los Angeles, 1946, Automobile Club of Southern California
Name: GhostMetroMaps/1946_Central_Section_of_Los_Angeles
Description: Central Section of Los Angeles, 1946, Automobile Club of Southern California
Single Fused Map Cache: false
Extent:
XMin: -1.3195560495049966E7
YMin: 4016323.7253696523
XMax: -1.3152186623724442E7
YMax: 4046052.871295722
Spatial Reference: 102100
(3857)
Initial Extent:
XMin: -1.3195560495049966E7
YMin: 4016323.7253696523
XMax: -1.3152186623724442E7
YMax: 4046052.871295722
Spatial Reference: 102100
(3857)
Full Extent:
XMin: -1.3195560495049966E7
YMin: 4016323.7253696523
XMax: -1.3152186623724442E7
YMax: 4046052.871295722
Spatial Reference: 102100
(3857)
Pixel Size X: 4.189497858159244
Pixel Size Y: 4.192113646901384
Band Count: 3
Pixel Type: U8
RasterFunction Infos: {"rasterFunctionInfos": [{
"name": "None",
"description": "",
"help": ""
}]}
Mensuration Capabilities:
Has Histograms: true
Has Colormap: false
Has Multi Dimensions : false
Rendering Rule:
Min Scale: 72223.819286
Max Scale: 2256.994353
Copyright Text: UCLA Map Library
Service Data Type: esriImageServiceDataTypeRGB
Min Values: 0, 0, 0
Max Values: 254, 245, 239
Mean Values: 189.4430100313, 180.89656032359, 163.19021009371
Standard Deviation Values: 36.982346852997, 42.484329842259, 48.080712470745
Object ID Field:
Fields:
None
Default Mosaic Method: Center
Allowed Mosaic Methods:
SortField:
SortValue: null
Mosaic Operator: First
Default Compression Quality: 75
Default Resampling Method: Bilinear
Max Record Count: null
Max Image Height: 4100
Max Image Width: 15000
Max Download Image Count: null
Max Mosaic Image Count: null
Allow Raster Function: true
Allow Copy: null
Allow Analysis: null
Allow Compute TiePoints: false
Supports Statistics: false
Supports Advanced Queries: false
Use StandardizedQueries: true
Raster Type Infos:
Name: Raster Dataset
Description: Supports all ArcGIS Raster Datasets
Help:
Has Raster Attribute Table: false
Edit Fields Info: null
Ownership Based AccessControl For Rasters: null
Child Resources:
Info
Histograms
Key Properties
Legend
Raster Function Infos
Supported Operations:
Export Image
Identify
Compute Histograms
Compute Statistics Histograms
Get Samples
Compute Class Statistics
Query Boundary
Compute Pixel Location
Validate
Project