{
 "currentVersion": 10.9,
 "serviceDescription": "Central Section of Los Angeles, 1946, Automobile Club of Southern California",
 "name": "GhostMetroMaps/1946_Central_Section_of_Los_Angeles",
 "description": "Central Section of Los Angeles, 1946, Automobile Club of Southern California",
 "extent": {
  "xmin": -1.3195560495049966E7,
  "ymin": 4016323.7253696523,
  "xmax": -1.3152186623724442E7,
  "ymax": 4046052.871295722,
  "spatialReference": {
   "wkid": 102100,
   "latestWkid": 3857
  }
 },
 "initialExtent": {
  "xmin": -1.3195560495049966E7,
  "ymin": 4016323.7253696523,
  "xmax": -1.3152186623724442E7,
  "ymax": 4046052.871295722,
  "spatialReference": {
   "wkid": 102100,
   "latestWkid": 3857
  }
 },
 "fullExtent": {
  "xmin": -1.3195560495049966E7,
  "ymin": 4016323.7253696523,
  "xmax": -1.3152186623724442E7,
  "ymax": 4046052.871295722,
  "spatialReference": {
   "wkid": 102100,
   "latestWkid": 3857
  }
 },
 "pixelSizeX": 4.189497858159244,
 "pixelSizeY": 4.192113646901384,
 "bandCount": 3,
 "pixelType": "U8",
 "minPixelSize": 0,
 "maxPixelSize": 0,
 "copyrightText": "UCLA Map Library",
 "serviceDataType": "esriImageServiceDataTypeRGB",
 "minValues": [
  0,
  0,
  0
 ],
 "maxValues": [
  254,
  245,
  239
 ],
 "meanValues": [
  189.4430100313,
  180.89656032359,
  163.19021009371
 ],
 "stdvValues": [
  36.982346852997,
  42.484329842259,
  48.080712470745
 ],
 "objectIdField": "",
 "fields": [],
 "capabilities": "Image,Metadata",
 "defaultMosaicMethod": "Center",
 "allowedMosaicMethods": "",
 "sortField": "",
 "sortValue": null,
 "sortAscending": true,
 "mosaicOperator": "First",
 "defaultCompressionQuality": 75,
 "defaultResamplingMethod": "Bilinear",
 "maxImageHeight": 4100,
 "maxImageWidth": 15000,
 "allowRasterFunction": true,
 "rasterFunctionInfos": [
  {
   "name": "None",
   "description": "",
   "help": ""
  }
 ],
 "rasterTypeInfos": [
  {
   "name": "Raster Dataset",
   "description": "Supports all ArcGIS Raster Datasets",
   "help": ""
  }
 ],
 "mensurationCapabilities": "",
 "hasHistograms": true,
 "hasColormap": false,
 "hasRasterAttributeTable": false,
 "minScale": 72223.819286,
 "maxScale": 2256.994353,
 "exportTilesAllowed": false,
 "hasMultidimensions": false,
 "supportsStatistics": false,
 "supportsAdvancedQueries": false,
 "editFieldsInfo": null,
 "ownershipBasedAccessControlForRasters": null,
 "allowComputeTiePoints": false,
 "useStandardizedQueries": true,
 "advancedQueryCapabilities": {
  "useStandardizedQueries": true,
  "supportsStatistics": false,
  "supportsOrderBy": false,
  "supportsDistinct": false,
  "supportsPagination": false
 },
 "spatialReference": {
  "wkid": 102100,
  "latestWkid": 3857
 }
}
