View In:
ArcGIS JavaScript
ArcGIS Online Map Viewer
ArcGIS Earth
ArcMap
View Footprint In:
ArcGIS Online Map Viewer
Service Description: LA_Coliseum_061716/DSM_Hillshade
Name: LA_Coliseum_061716/DSM_Hillshade
Description:
Single Fused Map Cache: false
Extent:
XMin: -1.316815451872673E7
YMin: 4030365.670016682
XMax: -1.3167330568451962E7
YMax: 4030999.465105511
Spatial Reference: 102100
(3857)
Initial Extent:
XMin: -1.316815451872673E7
YMin: 4030365.670016682
XMax: -1.3167330568451962E7
YMax: 4030999.465105511
Spatial Reference: 102100
(3857)
Full Extent:
XMin: -1.316815451872673E7
YMin: 4030365.670016682
XMax: -1.3167330568451962E7
YMax: 4030999.465105511
Spatial Reference: 102100
(3857)
Pixel Size X: 0.04663000000000045
Pixel Size Y: 0.046630000000004126
Band Count: 1
Pixel Type: U8
RasterFunction Infos: {"rasterFunctionInfos": [{
"name": "None",
"description": "",
"help": ""
}]}
Mensuration Capabilities: Basic
Has Histograms: false
Has Colormap: false
Has Multi Dimensions : false
Rendering Rule:
Min Scale: 9027.977411
Max Scale: 1128.497176
Copyright Text:
Service Data Type: esriImageServiceDataTypeGeneric
Min Values: N/A
Max Values: N/A
Mean Values: N/A
Standard Deviation Values: N/A
Object ID Field:
Fields:
None
Default Mosaic Method: Center
Allowed Mosaic Methods:
SortField:
SortValue: null
Mosaic Operator: First
Default Compression Quality: 75
Default Resampling Method: Bilinear
Max Record Count: null
Max Image Height: 4100
Max Image Width: 15000
Max Download Image Count: null
Max Mosaic Image Count: null
Allow Raster Function: true
Allow Copy: null
Allow Analysis: null
Allow Compute TiePoints: false
Supports Statistics: false
Supports Advanced Queries: false
Use StandardizedQueries: true
Raster Type Infos:
Name: Raster Dataset
Description: Supports all ArcGIS Raster Datasets
Help:
Has Raster Attribute Table: false
Edit Fields Info: null
Ownership Based AccessControl For Rasters: null
Child Resources:
Info
Key Properties
Legend
Raster Function Infos
Supported Operations:
Export Image
Identify
Measure
Compute Histograms
Compute Statistics Histograms
Get Samples
Compute Class Statistics
Query Boundary
Compute Pixel Location
Validate
Project