View In:
ArcGIS JavaScript
ArcGIS Online Map Viewer
ArcGIS Earth
ArcMap
View Footprint In:
ArcGIS Online Map Viewer
Service Description: Los Angeles Downtown 1996. Automobile Club of Southern California.
Name: GhostMetroMaps/1996_Map_of_Downtown_Los_Angeles
Description: Los Angeles Downtown 1996. Automobile Club of Southern California.
Single Fused Map Cache: false
Extent:
XMin: -1.31695818E7
YMin: 4027586.356471199
XMax: -1.3157877053489601E7
YMax: 4040380.5882273824
Spatial Reference: 102100
(3857)
Initial Extent:
XMin: -1.31695818E7
YMin: 4027586.356471199
XMax: -1.3157877053489601E7
YMax: 4040380.5882273824
Spatial Reference: 102100
(3857)
Full Extent:
XMin: -1.31695818E7
YMin: 4027586.356471199
XMax: -1.3157877053489601E7
YMax: 4040380.5882273824
Spatial Reference: 102100
(3857)
Pixel Size X: 2.2440081499999054
Pixel Size Y: 1.22360631000002
Band Count: 3
Pixel Type: U8
RasterFunction Infos: {"rasterFunctionInfos": [{
"name": "None",
"description": "",
"help": ""
}]}
Mensuration Capabilities: Basic
Has Histograms: true
Has Colormap: false
Has Multi Dimensions : false
Rendering Rule:
Min Scale: 288895.277144
Max Scale: 4513.988705
Copyright Text: UCLA Map Library
Service Data Type: esriImageServiceDataTypeRGB
Min Values: 0, 0, 0
Max Values: 255, 255, 255
Mean Values: 98.464764598256, 98.189074303686, 95.393667414725
Standard Deviation Values: 115.39676329589, 115.95134644898, 114.3853883761
Object ID Field:
Fields:
None
Default Mosaic Method: Center
Allowed Mosaic Methods:
SortField:
SortValue: null
Mosaic Operator: First
Default Compression Quality: 75
Default Resampling Method: Bilinear
Max Record Count: null
Max Image Height: 4100
Max Image Width: 15000
Max Download Image Count: null
Max Mosaic Image Count: null
Allow Raster Function: true
Allow Copy: null
Allow Analysis: null
Allow Compute TiePoints: false
Supports Statistics: false
Supports Advanced Queries: false
Use StandardizedQueries: true
Raster Type Infos:
Name: Raster Dataset
Description: Supports all ArcGIS Raster Datasets
Help:
Has Raster Attribute Table: false
Edit Fields Info: null
Ownership Based AccessControl For Rasters: null
Child Resources:
Info
Histograms
Key Properties
Legend
Raster Function Infos
Supported Operations:
Export Image
Identify
Measure
Compute Histograms
Compute Statistics Histograms
Get Samples
Compute Class Statistics
Query Boundary
Compute Pixel Location
Validate
Project