View In:
ArcGIS JavaScript
ArcGIS Online Map Viewer
ArcGIS Earth
ArcMap
View Footprint In:
ArcGIS Online Map Viewer
Service Description: Industrial Areas Los Angeles and Vicinity 1957, Society of Industrial Realtors.
Name: GhostMetroMaps/1957_Industrial_Areas_Los_Angeles_and_Vicinity
Description: Industrial Areas Los Angeles and Vicinity 1957, Society of Industrial Realtors.
Single Fused Map Cache: false
Extent:
XMin: -1.3212282961269865E7
YMin: 3961020.394220328
XMax: -1.303246094100757E7
YMax: 4079111.1108316206
Spatial Reference: 102100
(3857)
Initial Extent:
XMin: -1.3212282961269865E7
YMin: 3961020.394220328
XMax: -1.303246094100757E7
YMax: 4079111.1108316206
Spatial Reference: 102100
(3857)
Full Extent:
XMin: -1.3212282961269865E7
YMin: 3961020.394220328
XMax: -1.303246094100757E7
YMax: 4079111.1108316206
Spatial Reference: 102100
(3857)
Pixel Size X: 61.905663105792094
Pixel Size Y: 61.311036001453935
Band Count: 3
Pixel Type: U8
RasterFunction Infos: {"rasterFunctionInfos": [{
"name": "None",
"description": "",
"help": ""
}]}
Mensuration Capabilities: Basic
Has Histograms: false
Has Colormap: false
Has Multi Dimensions : false
Rendering Rule:
Min Scale: 1155581.108577
Max Scale: 4513.988705
Copyright Text: Map Collection of D.J. Waldie
Service Data Type: esriImageServiceDataTypeRGB
Min Values: N/A
Max Values: N/A
Mean Values: N/A
Standard Deviation Values: N/A
Object ID Field:
Fields:
None
Default Mosaic Method: Center
Allowed Mosaic Methods:
SortField:
SortValue: null
Mosaic Operator: First
Default Compression Quality: 75
Default Resampling Method: Bilinear
Max Record Count: null
Max Image Height: 4100
Max Image Width: 15000
Max Download Image Count: null
Max Mosaic Image Count: null
Allow Raster Function: true
Allow Copy: null
Allow Analysis: null
Allow Compute TiePoints: false
Supports Statistics: false
Supports Advanced Queries: false
Use StandardizedQueries: true
Raster Type Infos:
Name: Raster Dataset
Description: Supports all ArcGIS Raster Datasets
Help:
Has Raster Attribute Table: false
Edit Fields Info: null
Ownership Based AccessControl For Rasters: null
Child Resources:
Info
Key Properties
Legend
Raster Function Infos
Supported Operations:
Export Image
Identify
Measure
Compute Histograms
Compute Statistics Histograms
Get Samples
Compute Class Statistics
Query Boundary
Compute Pixel Location
Validate
Project