View In:
ArcGIS JavaScript
ArcGIS Online Map Viewer
ArcGIS Earth
ArcMap
View Footprint In:
ArcGIS Online Map Viewer
Service Description: Map of the City of Los Angeles 1903.
Name: GhostMetroMaps/1903_Map_of_the_City_of_Los_Angeles
Description: Map of the City of Los Angeles 1903.
Single Fused Map Cache: false
Extent:
XMin: -1.3172378826081963E7
YMin: 4024394.3449713043
XMax: -1.315386179165918E7
YMax: 4046133.2275288664
Spatial Reference: 102100
(3857)
Initial Extent:
XMin: -1.3172378826081963E7
YMin: 4024394.3449713043
XMax: -1.315386179165918E7
YMax: 4046133.2275288664
Spatial Reference: 102100
(3857)
Full Extent:
XMin: -1.3172378826081963E7
YMin: 4024394.3449713043
XMax: -1.315386179165918E7
YMax: 4046133.2275288664
Spatial Reference: 102100
(3857)
Pixel Size X: 1.7167656612999553
Pixel Size Y: 1.716817176299996
Band Count: 3
Pixel Type: U8
RasterFunction Infos: {"rasterFunctionInfos": [{
"name": "None",
"description": "",
"help": ""
}]}
Mensuration Capabilities: Basic
Has Histograms: true
Has Colormap: false
Has Multi Dimensions : false
Rendering Rule:
Min Scale: 144447.638572
Max Scale: 4513.988705
Copyright Text: UCLA Map Library
Service Data Type: esriImageServiceDataTypeRGB
Min Values: 0, 0, 0
Max Values: 255, 255, 255
Mean Values: 232.09789175238, 223.28314307403, 211.81828296675
Standard Deviation Values: 47.980540392514, 45.734802587488, 40.947488034909
Object ID Field:
Fields:
None
Default Mosaic Method: Center
Allowed Mosaic Methods:
SortField:
SortValue: null
Mosaic Operator: First
Default Compression Quality: 75
Default Resampling Method: Bilinear
Max Record Count: null
Max Image Height: 4100
Max Image Width: 15000
Max Download Image Count: null
Max Mosaic Image Count: null
Allow Raster Function: true
Allow Copy: null
Allow Analysis: null
Allow Compute TiePoints: false
Supports Statistics: false
Supports Advanced Queries: false
Use StandardizedQueries: true
Raster Type Infos:
Name: Raster Dataset
Description: Supports all ArcGIS Raster Datasets
Help:
Has Raster Attribute Table: false
Edit Fields Info: null
Ownership Based AccessControl For Rasters: null
Child Resources:
Info
Histograms
Key Properties
Legend
Raster Function Infos
Supported Operations:
Export Image
Identify
Measure
Compute Histograms
Compute Statistics Histograms
Get Samples
Compute Class Statistics
Query Boundary
Compute Pixel Location
Validate
Project