View In:
ArcGIS JavaScript
ArcGIS Online Map Viewer
ArcGIS Earth
ArcMap
View Footprint In:
ArcGIS Online Map Viewer
Service Description: Map of the City of Los Angeles 1897 accompanying Maxwell's Los Angeles City Directory.
Name: GhostMetroMaps/1897_Map_of_the_City_of_Los_Angeles
Description: Map of the City of Los Angeles 1897 accompanying Maxwell's Los Angeles City Directory.
Single Fused Map Cache: false
Extent:
XMin: -1.3171821700602118E7
YMin: 4025912.0780012105
XMax: -1.315652993238572E7
YMax: 4045036.2217553845
Spatial Reference: 102100
(3857)
Initial Extent:
XMin: -1.3171821700602118E7
YMin: 4025912.0780012105
XMax: -1.315652993238572E7
YMax: 4045036.2217553845
Spatial Reference: 102100
(3857)
Full Extent:
XMin: -1.3171821700602118E7
YMin: 4025912.0780012105
XMax: -1.315652993238572E7
YMax: 4045036.2217553845
Spatial Reference: 102100
(3857)
Pixel Size X: 2.2647760984001204
Pixel Size Y: 2.2533227220999725
Band Count: 3
Pixel Type: U8
RasterFunction Infos: {"rasterFunctionInfos": [{
"name": "None",
"description": "",
"help": ""
}]}
Mensuration Capabilities: Basic
Has Histograms: true
Has Colormap: false
Has Multi Dimensions : false
Rendering Rule:
Min Scale: 72223.819286
Max Scale: 4513.988705
Copyright Text: UCLA Map Library
Service Data Type: esriImageServiceDataTypeRGB
Min Values: 0, 0, 0
Max Values: 255, 255, 247
Mean Values: 196.69812267675, 183.38314524372, 160.39081183087
Standard Deviation Values: 57.90017529672, 54.649865474575, 52.557203747472
Object ID Field:
Fields:
None
Default Mosaic Method: Center
Allowed Mosaic Methods:
SortField:
SortValue: null
Mosaic Operator: First
Default Compression Quality: 75
Default Resampling Method: Bilinear
Max Record Count: null
Max Image Height: 4100
Max Image Width: 15000
Max Download Image Count: null
Max Mosaic Image Count: null
Allow Raster Function: true
Allow Copy: null
Allow Analysis: null
Allow Compute TiePoints: false
Supports Statistics: false
Supports Advanced Queries: false
Use StandardizedQueries: true
Raster Type Infos:
Name: Raster Dataset
Description: Supports all ArcGIS Raster Datasets
Help:
Has Raster Attribute Table: false
Edit Fields Info: null
Ownership Based AccessControl For Rasters: null
Child Resources:
Info
Histograms
Key Properties
Legend
Raster Function Infos
Supported Operations:
Export Image
Identify
Measure
Compute Histograms
Compute Statistics Histograms
Get Samples
Compute Class Statistics
Query Boundary
Compute Pixel Location
Validate
Project