View In:
ArcGIS JavaScript
ArcGIS Online Map Viewer
ArcGIS Earth
ArcMap
View Footprint In:
ArcGIS Online Map Viewer
Service Description: 1884 Map of the City of Los Angeles.
Name: GhostMetroMaps/1884_Map_of_the_City_of_Los_Angeles
Description: 1884 Map of the City of Los Angeles.
Single Fused Map Cache: false
Extent:
XMin: -1.316812806316493E7
YMin: 4030095.4875877067
XMax: -1.3156758871578634E7
YMax: 4045570.833836497
Spatial Reference: 102100
(3857)
Initial Extent:
XMin: -1.316812806316493E7
YMin: 4030095.4875877067
XMax: -1.3156758871578634E7
YMax: 4045570.833836497
Spatial Reference: 102100
(3857)
Full Extent:
XMin: -1.316812806316493E7
YMin: 4030095.4875877067
XMax: -1.3156758871578634E7
YMax: 4045570.833836497
Spatial Reference: 102100
(3857)
Pixel Size X: 1.4916283896999842
Pixel Size Y: 1.465801334699999
Band Count: 3
Pixel Type: U8
RasterFunction Infos: {"rasterFunctionInfos": [{
"name": "None",
"description": "",
"help": ""
}]}
Mensuration Capabilities: Basic
Has Histograms: true
Has Colormap: false
Has Multi Dimensions : false
Rendering Rule:
Min Scale: 144447.638572
Max Scale: 4513.988705
Copyright Text: UCLA Map Library
Service Data Type: esriImageServiceDataTypeRGB
Min Values: 0, 0, 0
Max Values: 255, 255, 255
Mean Values: 193.44892420059, 175.67490628355, 148.19734513524
Standard Deviation Values: 65.342452310405, 62.05565084232, 57.339569045865
Object ID Field:
Fields:
None
Default Mosaic Method: Center
Allowed Mosaic Methods:
SortField:
SortValue: null
Mosaic Operator: First
Default Compression Quality: 75
Default Resampling Method: Bilinear
Max Record Count: null
Max Image Height: 4100
Max Image Width: 15000
Max Download Image Count: null
Max Mosaic Image Count: null
Allow Raster Function: true
Allow Copy: null
Allow Analysis: null
Allow Compute TiePoints: false
Supports Statistics: false
Supports Advanced Queries: false
Use StandardizedQueries: true
Raster Type Infos:
Name: Raster Dataset
Description: Supports all ArcGIS Raster Datasets
Help:
Has Raster Attribute Table: false
Edit Fields Info: null
Ownership Based AccessControl For Rasters: null
Child Resources:
Info
Histograms
Key Properties
Legend
Raster Function Infos
Supported Operations:
Export Image
Identify
Measure
Compute Histograms
Compute Statistics Histograms
Get Samples
Compute Class Statistics
Query Boundary
Compute Pixel Location
Validate
Project