View In:
ArcGIS JavaScript
ArcGIS Online Map Viewer
ArcGIS Earth
ArcMap
View Footprint In:
ArcGIS Online Map Viewer
Service Description: 1881 Map of the County of Los Angeles. H.J. Stevenson, U.S. Dept. Surveyor.
Name: GhostMetroMaps/1881_Map_of_the_County_of_Los_Angeles
Description: 1881 Map of the County of Los Angeles. H.J. Stevenson, U.S. Dept. Surveyor.
Single Fused Map Cache: false
Extent:
XMin: -1.3261213193297118E7
YMin: 3927230.5520556946
XMax: -1.304077835446209E7
YMax: 4153533.8664649064
Spatial Reference: 102100
(3857)
Initial Extent:
XMin: -1.3261213193297118E7
YMin: 3927230.5520556946
XMax: -1.304077835446209E7
YMax: 4153533.8664649064
Spatial Reference: 102100
(3857)
Full Extent:
XMin: -1.3261213193297118E7
YMin: 3927230.5520556946
XMax: -1.304077835446209E7
YMax: 4153533.8664649064
Spatial Reference: 102100
(3857)
Pixel Size X: 37.241905530499906
Pixel Size Y: 36.77146735710002
Band Count: 3
Pixel Type: U8
RasterFunction Infos: {"rasterFunctionInfos": [{
"name": "None",
"description": "",
"help": ""
}]}
Mensuration Capabilities: Basic
Has Histograms: true
Has Colormap: false
Has Multi Dimensions : false
Rendering Rule:
Min Scale: 1155581.108577
Max Scale: 9027.977411
Copyright Text: UCLA Map Library
Service Data Type: esriImageServiceDataTypeRGB
Min Values: 0, 0, 0
Max Values: 255, 255, 255
Mean Values: 219.08440822913, 200.34525979381, 164.60078896201
Standard Deviation Values: 53.395045050514, 50.936414479311, 45.157869699167
Object ID Field:
Fields:
None
Default Mosaic Method: Center
Allowed Mosaic Methods:
SortField:
SortValue: null
Mosaic Operator: First
Default Compression Quality: 75
Default Resampling Method: Bilinear
Max Record Count: null
Max Image Height: 4100
Max Image Width: 15000
Max Download Image Count: null
Max Mosaic Image Count: null
Allow Raster Function: true
Allow Copy: null
Allow Analysis: null
Allow Compute TiePoints: false
Supports Statistics: false
Supports Advanced Queries: false
Use StandardizedQueries: true
Raster Type Infos:
Name: Raster Dataset
Description: Supports all ArcGIS Raster Datasets
Help:
Has Raster Attribute Table: false
Edit Fields Info: null
Ownership Based AccessControl For Rasters: null
Child Resources:
Info
Histograms
Key Properties
Legend
Raster Function Infos
Supported Operations:
Export Image
Identify
Measure
Compute Histograms
Compute Statistics Histograms
Get Samples
Compute Class Statistics
Query Boundary
Compute Pixel Location
Validate
Project