View In:
ArcGIS JavaScript
ArcGIS Online Map Viewer
ArcGIS Earth
ArcMap
View Footprint In:
ArcGIS Online Map Viewer
Service Description: 1857 Map of the City of Los Angeles showing the confirmed Limits
Name: GhostMetroMaps/1857_Map_of_the_City_of_Los_Angeles
Description: 1857 Map of the City of Los Angeles showing the confirmed Limits
Single Fused Map Cache: false
Extent:
XMin: 0
YMin: 0
XMax: 28.796666666666667
YMax: 29.39666666666667
Spatial Reference: 102100
(3857)
Initial Extent:
XMin: 0
YMin: 0
XMax: 28.796666666666667
YMax: 29.39666666666667
Spatial Reference: 102100
(3857)
Full Extent:
XMin: 0
YMin: 0
XMax: 28.796666666666667
YMax: 29.39666666666667
Spatial Reference: 102100
(3857)
Pixel Size X: 0.0033333333333333335
Pixel Size Y: 0.0033333333333333335
Band Count: 3
Pixel Type: U8
RasterFunction Infos: {"rasterFunctionInfos": [{
"name": "None",
"description": "",
"help": ""
}]}
Mensuration Capabilities:
Has Histograms: false
Has Colormap: false
Has Multi Dimensions : false
Rendering Rule:
Min Scale: 1155581.108577
Max Scale: 9027.977411
Copyright Text: UCLA Map Library
Service Data Type: esriImageServiceDataTypeRGB
Min Values: N/A
Max Values: N/A
Mean Values: N/A
Standard Deviation Values: N/A
Object ID Field:
Fields:
None
Default Mosaic Method: Center
Allowed Mosaic Methods:
SortField:
SortValue: null
Mosaic Operator: First
Default Compression Quality: 75
Default Resampling Method: Bilinear
Max Record Count: null
Max Image Height: 4100
Max Image Width: 15000
Max Download Image Count: null
Max Mosaic Image Count: null
Allow Raster Function: true
Allow Copy: null
Allow Analysis: null
Allow Compute TiePoints: false
Supports Statistics: false
Supports Advanced Queries: false
Use StandardizedQueries: true
Raster Type Infos:
Name: Raster Dataset
Description: Supports all ArcGIS Raster Datasets
Help:
Has Raster Attribute Table: false
Edit Fields Info: null
Ownership Based AccessControl For Rasters: null
Child Resources:
Info
Key Properties
Legend
Raster Function Infos
Supported Operations:
Export Image
Identify
Compute Histograms
Compute Statistics Histograms
Get Samples
Compute Class Statistics
Query Boundary
Compute Pixel Location
Validate
Project