{
 "currentVersion": 10.9,
 "serviceDescription": "Default",
 "name": "Default",
 "description": "",
 "extent": {
  "xmin": -28493.166784412522,
  "ymin": 4224973.143255847,
  "xmax": 2358.211624949061,
  "ymax": 4255884.5438021915,
  "spatialReference": {
   "wkt": "PROJCS[\"North_American_1927_Cylindrical_Equal_Area\",GEOGCS[\"GCS_North_American_1927\",DATUM[\"D_North_American_1927\",SPHEROID[\"Clarke_1866\",6378206.4,294.9786982]],PRIMEM[\"Greenwich\",0.0],UNIT[\"Degree\",0.0174532925199433]],PROJECTION[\"Cylindrical_Equal_Area\"],PARAMETER[\"false_easting\",0.0],PARAMETER[\"false_northing\",0.0],PARAMETER[\"central_meridian\",-117.333333333333],PARAMETER[\"standard_parallel_1\",33.75],UNIT[\"Meter\",1.0]]"
  }
 },
 "initialExtent": {
  "xmin": -28493.166784412522,
  "ymin": 4224973.143255847,
  "xmax": 2358.211624949061,
  "ymax": 4255884.5438021915,
  "spatialReference": {
   "wkt": "PROJCS[\"North_American_1927_Cylindrical_Equal_Area\",GEOGCS[\"GCS_North_American_1927\",DATUM[\"D_North_American_1927\",SPHEROID[\"Clarke_1866\",6378206.4,294.9786982]],PRIMEM[\"Greenwich\",0.0],UNIT[\"Degree\",0.0174532925199433]],PROJECTION[\"Cylindrical_Equal_Area\"],PARAMETER[\"false_easting\",0.0],PARAMETER[\"false_northing\",0.0],PARAMETER[\"central_meridian\",-117.333333333333],PARAMETER[\"standard_parallel_1\",33.75],UNIT[\"Meter\",1.0]]"
  }
 },
 "fullExtent": {
  "xmin": -28493.166784412522,
  "ymin": 4224973.143255847,
  "xmax": 2358.211624949061,
  "ymax": 4255884.5438021915,
  "spatialReference": {
   "wkt": "PROJCS[\"North_American_1927_Cylindrical_Equal_Area\",GEOGCS[\"GCS_North_American_1927\",DATUM[\"D_North_American_1927\",SPHEROID[\"Clarke_1866\",6378206.4,294.9786982]],PRIMEM[\"Greenwich\",0.0],UNIT[\"Degree\",0.0174532925199433]],PROJECTION[\"Cylindrical_Equal_Area\"],PARAMETER[\"false_easting\",0.0],PARAMETER[\"false_northing\",0.0],PARAMETER[\"central_meridian\",-117.333333333333],PARAMETER[\"standard_parallel_1\",33.75],UNIT[\"Meter\",1.0]]"
  }
 },
 "hasMultidimensions": false,
 "pixelSizeX": 60.02213698319374,
 "pixelSizeY": 60.02213698319404,
 "datasetFormat": "TIFF",
 "uncompressedSize": 264710,
 "blockWidth": 514,
 "blockHeight": 15,
 "compressionType": "None",
 "bandNames": [
  "Band_1"
 ],
 "allowCopy": true,
 "allowAnalysis": true,
 "bandCount": 1,
 "pixelType": "U8",
 "minPixelSize": 0,
 "maxPixelSize": 0,
 "copyrightText": "",
 "serviceDataType": "esriImageServiceDataTypeGeneric",
 "serviceSourceType": "esriImageServiceSourceTypeDataset",
 "minValues": [],
 "maxValues": [],
 "meanValues": [],
 "stdvValues": [],
 "objectIdField": "",
 "fields": [],
 "capabilities": "Image,Metadata,Mensuration",
 "defaultMosaicMethod": "Center",
 "allowedMosaicMethods": "",
 "sortField": "",
 "sortValue": null,
 "sortAscending": true,
 "mosaicOperator": "First",
 "defaultCompressionQuality": 75,
 "defaultResamplingMethod": "Bilinear",
 "maxImageHeight": 4100,
 "maxImageWidth": 15000,
 "allowRasterFunction": true,
 "rasterFunctionInfos": [
  {
   "name": "None",
   "description": "",
   "help": ""
  }
 ],
 "rasterTypeInfos": [
  {
   "name": "Raster Dataset",
   "description": "Supports all ArcGIS Raster Datasets",
   "help": ""
  }
 ],
 "mensurationCapabilities": "Basic",
 "hasHistograms": false,
 "hasColormap": false,
 "hasRasterAttributeTable": false,
 "minScale": 0,
 "maxScale": 0,
 "exportTilesAllowed": false,
 "supportsStatistics": false,
 "supportsAdvancedQueries": false,
 "editFieldsInfo": null,
 "ownershipBasedAccessControlForRasters": null,
 "allowComputeTiePoints": false,
 "useStandardizedQueries": true,
 "advancedQueryCapabilities": {
  "useStandardizedQueries": true,
  "supportsStatistics": false,
  "supportsOrderBy": false,
  "supportsDistinct": false,
  "supportsPagination": false
 },
 "spatialReference": {
  "wkt": "PROJCS[\"North_American_1927_Cylindrical_Equal_Area\",GEOGCS[\"GCS_North_American_1927\",DATUM[\"D_North_American_1927\",SPHEROID[\"Clarke_1866\",6378206.4,294.9786982]],PRIMEM[\"Greenwich\",0.0],UNIT[\"Degree\",0.0174532925199433]],PROJECTION[\"Cylindrical_Equal_Area\"],PARAMETER[\"false_easting\",0.0],PARAMETER[\"false_northing\",0.0],PARAMETER[\"central_meridian\",-117.333333333333],PARAMETER[\"standard_parallel_1\",33.75],UNIT[\"Meter\",1.0]]"
 }
}
