{
 "currentVersion": 10.9,
 "serviceDescription": "Traffic density represents distance-decayed AADT volume in both directions from all roads (FCC1-FCC4) within the circular buffer. Traffic density is symmetric on both sides of each roadway and is computed as if the wind directions are uniformly distributed around the compass. The density values are computed using the ESRI density function using a kernel with a 300m search radius and 10m grid resolution. The results are virtually identical for locations on a diagonal equidistant between two intersecting roads each with 50,000 vehicles per day as those for one road at a the same distance with 100,000 vehicles/day. Traffic volume estimates were calculated from a southern California multi-year traffic dataset developed by Sonoma Technology, Inc. Traffic density files depicts traffic volumes for years 1995, 2000, 2005, 2010, and 2014. Traffic density with a 300m falloff function is scaled to represent distance decayed annual average vehicles per day. Created using ESRI ArcMAP v10.3.1. Projection: NAD_1983_UTM Zone_11N (meters).",
 "name": "AirPollution_TrafficDensity/TrafficDensity_Yr2014_10m",
 "description": "Traffic density represents distance-decayed AADT volume in both directions from all roads (FCC1-FCC4) within the circular buffer. Traffic density is symmetric on both sides of each roadway and is computed as if the wind directions are uniformly distributed around the compass. The density values are computed using the ESRI density function using a kernel with a 300m search radius and 10m grid resolution. The results are virtually identical for locations on a diagonal equidistant between two intersecting roads each with 50,000 vehicles per day as those for one road at a the same distance with 100,000 vehicles/day. Traffic volume estimates were calculated from a southern California multi-year traffic dataset developed by Sonoma Technology, Inc. Traffic density files depicts traffic volumes for years 1995, 2000, 2005, 2010, and 2014. Traffic density with a 300m falloff function is scaled to represent distance decayed annual average vehicles per day. Created using ESRI ArcMAP v10.3.1. Projection: NAD_1983_UTM Zone_11N (meters).",
 "extent": {
  "xmin": 107239.15969999973,
  "ymin": 3600287.460500002,
  "xmax": 763809.1596999997,
  "ymax": 3969957.460500002,
  "spatialReference": {
   "wkid": 26911,
   "latestWkid": 26911
  }
 },
 "initialExtent": {
  "xmin": 107239.15969999973,
  "ymin": 3600287.460500002,
  "xmax": 763809.1596999997,
  "ymax": 3969957.460500002,
  "spatialReference": {
   "wkid": 26911,
   "latestWkid": 26911
  }
 },
 "fullExtent": {
  "xmin": 107239.15969999973,
  "ymin": 3600287.460500002,
  "xmax": 763809.1596999997,
  "ymax": 3969957.460500002,
  "spatialReference": {
   "wkid": 26911,
   "latestWkid": 26911
  }
 },
 "pixelSizeX": 10,
 "pixelSizeY": 10,
 "bandCount": 1,
 "pixelType": "F32",
 "minPixelSize": 0,
 "maxPixelSize": 0,
 "copyrightText": "Prepared for USC NIEHS by Bryan Penfold, Sonoma Technology, Inc., 11-2-2016 (bryan@sonomatech.com 707-665-9900). Shared as a map service for USC NIEHS by USC Spatial Sciences Institute, 2017.",
 "serviceDataType": "esriImageServiceDataTypeGeneric",
 "minValues": [
  -2.6829314594620235E-13
 ],
 "maxValues": [
  998821.625
 ],
 "meanValues": [
  1174.8669998414075
 ],
 "stdvValues": [
  10778.479232322861
 ],
 "objectIdField": "",
 "fields": [],
 "capabilities": "Image,Metadata,Mensuration",
 "defaultMosaicMethod": "Center",
 "allowedMosaicMethods": "",
 "sortField": "",
 "sortValue": null,
 "sortAscending": true,
 "mosaicOperator": "First",
 "defaultCompressionQuality": 75,
 "defaultResamplingMethod": "Bilinear",
 "maxImageHeight": 65657,
 "maxImageWidth": 36967,
 "allowRasterFunction": true,
 "rasterFunctionInfos": [
  {
   "name": "None",
   "description": "",
   "help": ""
  }
 ],
 "rasterTypeInfos": [
  {
   "name": "Raster Dataset",
   "description": "Supports all ArcGIS Raster Datasets",
   "help": ""
  }
 ],
 "mensurationCapabilities": "Basic",
 "hasHistograms": true,
 "hasColormap": false,
 "hasRasterAttributeTable": false,
 "minScale": 0,
 "maxScale": 0,
 "exportTilesAllowed": false,
 "hasMultidimensions": false,
 "supportsStatistics": false,
 "supportsAdvancedQueries": false,
 "editFieldsInfo": null,
 "ownershipBasedAccessControlForRasters": null,
 "allowComputeTiePoints": false,
 "useStandardizedQueries": true,
 "advancedQueryCapabilities": {
  "useStandardizedQueries": true,
  "supportsStatistics": false,
  "supportsOrderBy": false,
  "supportsDistinct": false,
  "supportsPagination": false
 },
 "spatialReference": {
  "wkid": 26911,
  "latestWkid": 26911
 }
}
